BEGIN:VCALENDAR
VERSION:2.0
PRODID:-//Tukios.com/
BEGIN:VEVENT
UID:2cf547f6-066a-46d7-a10d-66dcb161417f@www.hometownfh.com
DTSTAMP:20260421T184958Z
DTSTART:20260424T160000Z
DTEND:20260424T170000Z
SUMMARY:Funeral Service
DESCRIPTION:
URL:https://www.hometownfh.com/obituaries/gerald-green
LOCATION:Custer Avenue Church of Christ 2601 Custer Avenue  Clinton OK 
	73601
GEO:35.5167948;-98.9908997
END:VEVENT
END:VCALENDAR