BEGIN:VCALENDAR
VERSION:2.0
PRODID:-//Tukios.com/
BEGIN:VEVENT
UID:fa38e063-f926-4ab9-8e52-3a4b15d5ad98@www.hometownfh.com
DTSTAMP:20260421T184450Z
DTSTART:20260428T160000Z
DTEND:20260428T170000Z
SUMMARY:Burial
DESCRIPTION:
URL:https://www.hometownfh.com/obituaries/gerald-green
LOCATION:Grove Hill Cemetery 4118 Samuell Blvd  Dallas TX 75227
GEO:32.7931277;-96.7233092
END:VEVENT
END:VCALENDAR