BEGIN:VCALENDAR
VERSION:2.0
PRODID:-//Tukios.com/
BEGIN:VEVENT
UID:8921b61c-99ac-4d08-80d1-1a0d1637990c@www.hometownfh.com
DTSTAMP:20260421T231430Z
DTSTART:20260423T200000Z
DTEND:20260423T210000Z
SUMMARY:Graveside Service
DESCRIPTION:
URL:https://www.hometownfh.com/obituaries/kamden-orange
LOCATION: East of Hammon 1 mile turn North  Hammon OK 73650
GEO:35.6328261;-99.3817653
END:VEVENT
END:VCALENDAR